BEGIN:VCALENDAR
VERSION:2.0
PRODID:-//Searcy Country Club - ECPv6.15.20//NONSGML v1.0//EN
CALSCALE:GREGORIAN
METHOD:PUBLISH
X-ORIGINAL-URL:https://searcycountryclub.com
X-WR-CALDESC:Events for Searcy Country Club
REFRESH-INTERVAL;VALUE=DURATION:PT1H
X-Robots-Tag:noindex
X-PUBLISHED-TTL:PT1H
BEGIN:VTIMEZONE
TZID:America/Chicago
BEGIN:DAYLIGHT
TZOFFSETFROM:-0600
TZOFFSETTO:-0500
TZNAME:CDT
DTSTART:20250309T080000
END:DAYLIGHT
BEGIN:STANDARD
TZOFFSETFROM:-0500
TZOFFSETTO:-0600
TZNAME:CST
DTSTART:20251102T070000
END:STANDARD
BEGIN:DAYLIGHT
TZOFFSETFROM:-0600
TZOFFSETTO:-0500
TZNAME:CDT
DTSTART:20260308T080000
END:DAYLIGHT
BEGIN:STANDARD
TZOFFSETFROM:-0500
TZOFFSETTO:-0600
TZNAME:CST
DTSTART:20261101T070000
END:STANDARD
BEGIN:DAYLIGHT
TZOFFSETFROM:-0600
TZOFFSETTO:-0500
TZNAME:CDT
DTSTART:20270314T080000
END:DAYLIGHT
BEGIN:STANDARD
TZOFFSETFROM:-0500
TZOFFSETTO:-0600
TZNAME:CST
DTSTART:20271107T070000
END:STANDARD
END:VTIMEZONE
BEGIN:VEVENT
DTSTART;TZID=America/Chicago:20260505T120000
DTEND;TZID=America/Chicago:20260505T130000
DTSTAMP:20260421T045119
CREATED:20260402T161239Z
LAST-MODIFIED:20260402T161239Z
UID:3562-1777982400-1777986000@searcycountryclub.com
SUMMARY:Rotary Luncheon
DESCRIPTION:
URL:https://searcycountryclub.com/event/rotary-luncheon/2026-05-05/
CATEGORIES:Club Event
END:VEVENT
BEGIN:VEVENT
DTSTART;TZID=America/Chicago:20260506T090000
DTEND;TZID=America/Chicago:20260506T160000
DTSTAMP:20260421T045119
CREATED:20260402T161215Z
LAST-MODIFIED:20260402T161215Z
UID:3519-1778058000-1778083200@searcycountryclub.com
SUMMARY:Ladies Bridge
DESCRIPTION:
URL:https://searcycountryclub.com/event/ladies-bridge/2026-05-06/
CATEGORIES:Club Event
END:VEVENT
BEGIN:VEVENT
DTSTART;TZID=America/Chicago:20260512T120000
DTEND;TZID=America/Chicago:20260512T130000
DTSTAMP:20260421T045119
CREATED:20260402T161239Z
LAST-MODIFIED:20260402T161239Z
UID:3563-1778587200-1778590800@searcycountryclub.com
SUMMARY:Rotary Luncheon
DESCRIPTION:
URL:https://searcycountryclub.com/event/rotary-luncheon/2026-05-12/
CATEGORIES:Club Event
END:VEVENT
BEGIN:VEVENT
DTSTART;TZID=America/Chicago:20260513T173000
DTEND;TZID=America/Chicago:20260513T200000
DTSTAMP:20260421T045119
CREATED:20260402T160958Z
LAST-MODIFIED:20260402T170633Z
UID:3466-1778693400-1778702400@searcycountryclub.com
SUMMARY:Mahjong Game Night
DESCRIPTION:
URL:https://searcycountryclub.com/event/mahjong-game-night/2026-05-13/
CATEGORIES:Club Event
END:VEVENT
BEGIN:VEVENT
DTSTART;TZID=America/Chicago:20260519T120000
DTEND;TZID=America/Chicago:20260519T130000
DTSTAMP:20260421T045119
CREATED:20260402T161239Z
LAST-MODIFIED:20260402T161239Z
UID:3565-1779192000-1779195600@searcycountryclub.com
SUMMARY:Rotary Luncheon
DESCRIPTION:
URL:https://searcycountryclub.com/event/rotary-luncheon/2026-05-19/
CATEGORIES:Club Event
END:VEVENT
BEGIN:VEVENT
DTSTART;TZID=America/Chicago:20260520T090000
DTEND;TZID=America/Chicago:20260520T160000
DTSTAMP:20260421T045119
CREATED:20260402T161215Z
LAST-MODIFIED:20260402T161215Z
UID:3520-1779267600-1779292800@searcycountryclub.com
SUMMARY:Ladies Bridge
DESCRIPTION:
URL:https://searcycountryclub.com/event/ladies-bridge/2026-05-20/
CATEGORIES:Club Event
END:VEVENT
BEGIN:VEVENT
DTSTART;VALUE=DATE:20260522
DTEND;VALUE=DATE:20260523
DTSTAMP:20260421T045119
CREATED:20260402T163050Z
LAST-MODIFIED:20260402T163050Z
UID:3686-1779408000-1779494399@searcycountryclub.com
SUMMARY:Pool Opening
DESCRIPTION:
URL:https://searcycountryclub.com/event/pool-opening/
CATEGORIES:Club Event
END:VEVENT
BEGIN:VEVENT
DTSTART;TZID=America/Chicago:20260526T120000
DTEND;TZID=America/Chicago:20260526T130000
DTSTAMP:20260421T045119
CREATED:20260402T161239Z
LAST-MODIFIED:20260402T161239Z
UID:3567-1779796800-1779800400@searcycountryclub.com
SUMMARY:Rotary Luncheon
DESCRIPTION:
URL:https://searcycountryclub.com/event/rotary-luncheon/2026-05-26/
CATEGORIES:Club Event
END:VEVENT
BEGIN:VEVENT
DTSTART;TZID=America/Chicago:20260527T173000
DTEND;TZID=America/Chicago:20260527T200000
DTSTAMP:20260421T045119
CREATED:20260402T160958Z
LAST-MODIFIED:20260402T170633Z
UID:3467-1779903000-1779912000@searcycountryclub.com
SUMMARY:Mahjong Game Night
DESCRIPTION:
URL:https://searcycountryclub.com/event/mahjong-game-night/2026-05-27/
CATEGORIES:Club Event
END:VEVENT
BEGIN:VEVENT
DTSTART;TZID=America/Chicago:20260602T120000
DTEND;TZID=America/Chicago:20260602T130000
DTSTAMP:20260421T045119
CREATED:20260402T161239Z
LAST-MODIFIED:20260402T161239Z
UID:3569-1780401600-1780405200@searcycountryclub.com
SUMMARY:Rotary Luncheon
DESCRIPTION:
URL:https://searcycountryclub.com/event/rotary-luncheon/2026-06-02/
CATEGORIES:Club Event
END:VEVENT
BEGIN:VEVENT
DTSTART;TZID=America/Chicago:20260603T090000
DTEND;TZID=America/Chicago:20260603T160000
DTSTAMP:20260421T045119
CREATED:20260402T161215Z
LAST-MODIFIED:20260402T161215Z
UID:3521-1780477200-1780502400@searcycountryclub.com
SUMMARY:Ladies Bridge
DESCRIPTION:
URL:https://searcycountryclub.com/event/ladies-bridge/2026-06-03/
CATEGORIES:Club Event
END:VEVENT
BEGIN:VEVENT
DTSTART;TZID=America/Chicago:20260609T120000
DTEND;TZID=America/Chicago:20260609T130000
DTSTAMP:20260421T045119
CREATED:20260402T161239Z
LAST-MODIFIED:20260402T161239Z
UID:3571-1781006400-1781010000@searcycountryclub.com
SUMMARY:Rotary Luncheon
DESCRIPTION:
URL:https://searcycountryclub.com/event/rotary-luncheon/2026-06-09/
CATEGORIES:Club Event
END:VEVENT
BEGIN:VEVENT
DTSTART;TZID=America/Chicago:20260610T173000
DTEND;TZID=America/Chicago:20260610T200000
DTSTAMP:20260421T045119
CREATED:20260402T160958Z
LAST-MODIFIED:20260402T170633Z
UID:3468-1781112600-1781121600@searcycountryclub.com
SUMMARY:Mahjong Game Night
DESCRIPTION:
URL:https://searcycountryclub.com/event/mahjong-game-night/2026-06-10/
CATEGORIES:Club Event
END:VEVENT
BEGIN:VEVENT
DTSTART;TZID=America/Chicago:20260616T120000
DTEND;TZID=America/Chicago:20260616T130000
DTSTAMP:20260421T045119
CREATED:20260402T161239Z
LAST-MODIFIED:20260402T161239Z
UID:3573-1781611200-1781614800@searcycountryclub.com
SUMMARY:Rotary Luncheon
DESCRIPTION:
URL:https://searcycountryclub.com/event/rotary-luncheon/2026-06-16/
CATEGORIES:Club Event
END:VEVENT
BEGIN:VEVENT
DTSTART;TZID=America/Chicago:20260617T090000
DTEND;TZID=America/Chicago:20260617T160000
DTSTAMP:20260421T045119
CREATED:20260402T161215Z
LAST-MODIFIED:20260402T161215Z
UID:3522-1781686800-1781712000@searcycountryclub.com
SUMMARY:Ladies Bridge
DESCRIPTION:
URL:https://searcycountryclub.com/event/ladies-bridge/2026-06-17/
CATEGORIES:Club Event
END:VEVENT
BEGIN:VEVENT
DTSTART;TZID=America/Chicago:20260621T180000
DTEND;TZID=America/Chicago:20260621T220000
DTSTAMP:20260421T045119
CREATED:20260402T164452Z
LAST-MODIFIED:20260402T164452Z
UID:3700-1782064800-1782079200@searcycountryclub.com
SUMMARY:Father's Day BBQ
DESCRIPTION:
URL:https://searcycountryclub.com/event/fathers-day-bbq/
CATEGORIES:Club Event
END:VEVENT
BEGIN:VEVENT
DTSTART;TZID=America/Chicago:20260623T120000
DTEND;TZID=America/Chicago:20260623T130000
DTSTAMP:20260421T045119
CREATED:20260402T161239Z
LAST-MODIFIED:20260402T161239Z
UID:3582-1782216000-1782219600@searcycountryclub.com
SUMMARY:Rotary Luncheon
DESCRIPTION:
URL:https://searcycountryclub.com/event/rotary-luncheon/2026-06-23/
CATEGORIES:Club Event
END:VEVENT
BEGIN:VEVENT
DTSTART;TZID=America/Chicago:20260624T173000
DTEND;TZID=America/Chicago:20260624T200000
DTSTAMP:20260421T045119
CREATED:20260402T160958Z
LAST-MODIFIED:20260402T170634Z
UID:3469-1782322200-1782331200@searcycountryclub.com
SUMMARY:Mahjong Game Night
DESCRIPTION:
URL:https://searcycountryclub.com/event/mahjong-game-night/2026-06-24/
CATEGORIES:Club Event
END:VEVENT
BEGIN:VEVENT
DTSTART;TZID=America/Chicago:20260630T120000
DTEND;TZID=America/Chicago:20260630T130000
DTSTAMP:20260421T045119
CREATED:20260402T161239Z
LAST-MODIFIED:20260402T161239Z
UID:3583-1782820800-1782824400@searcycountryclub.com
SUMMARY:Rotary Luncheon
DESCRIPTION:
URL:https://searcycountryclub.com/event/rotary-luncheon/2026-06-30/
CATEGORIES:Club Event
END:VEVENT
BEGIN:VEVENT
DTSTART;TZID=America/Chicago:20260701T090000
DTEND;TZID=America/Chicago:20260701T160000
DTSTAMP:20260421T045119
CREATED:20260402T161215Z
LAST-MODIFIED:20260402T161215Z
UID:3523-1782896400-1782921600@searcycountryclub.com
SUMMARY:Ladies Bridge
DESCRIPTION:
URL:https://searcycountryclub.com/event/ladies-bridge/2026-07-01/
CATEGORIES:Club Event
END:VEVENT
BEGIN:VEVENT
DTSTART;TZID=America/Chicago:20260704T173000
DTEND;TZID=America/Chicago:20260704T183000
DTSTAMP:20260421T045119
CREATED:20260402T164905Z
LAST-MODIFIED:20260402T164905Z
UID:3711-1783186200-1783189800@searcycountryclub.com
SUMMARY:4th of July Golf Cart Parade
DESCRIPTION:
URL:https://searcycountryclub.com/event/4th-of-july-golf-cart-parade/
CATEGORIES:Club Event
END:VEVENT
BEGIN:VEVENT
DTSTART;TZID=America/Chicago:20260704T200000
DTEND;TZID=America/Chicago:20260704T210000
DTSTAMP:20260421T045119
CREATED:20260402T164600Z
LAST-MODIFIED:20260402T164600Z
UID:3706-1783195200-1783198800@searcycountryclub.com
SUMMARY:Fireworks Show
DESCRIPTION:
URL:https://searcycountryclub.com/event/fireworks-show/
CATEGORIES:Club Event
END:VEVENT
BEGIN:VEVENT
DTSTART;TZID=America/Chicago:20260707T120000
DTEND;TZID=America/Chicago:20260707T130000
DTSTAMP:20260421T045119
CREATED:20260402T161239Z
LAST-MODIFIED:20260402T161239Z
UID:3584-1783425600-1783429200@searcycountryclub.com
SUMMARY:Rotary Luncheon
DESCRIPTION:
URL:https://searcycountryclub.com/event/rotary-luncheon/2026-07-07/
CATEGORIES:Club Event
END:VEVENT
BEGIN:VEVENT
DTSTART;TZID=America/Chicago:20260708T173000
DTEND;TZID=America/Chicago:20260708T200000
DTSTAMP:20260421T045119
CREATED:20260402T160958Z
LAST-MODIFIED:20260402T170634Z
UID:3470-1783531800-1783540800@searcycountryclub.com
SUMMARY:Mahjong Game Night
DESCRIPTION:
URL:https://searcycountryclub.com/event/mahjong-game-night/2026-07-08/
CATEGORIES:Club Event
END:VEVENT
BEGIN:VEVENT
DTSTART;TZID=America/Chicago:20260714T120000
DTEND;TZID=America/Chicago:20260714T130000
DTSTAMP:20260421T045119
CREATED:20260402T161239Z
LAST-MODIFIED:20260402T161239Z
UID:3585-1784030400-1784034000@searcycountryclub.com
SUMMARY:Rotary Luncheon
DESCRIPTION:
URL:https://searcycountryclub.com/event/rotary-luncheon/2026-07-14/
CATEGORIES:Club Event
END:VEVENT
BEGIN:VEVENT
DTSTART;TZID=America/Chicago:20260715T090000
DTEND;TZID=America/Chicago:20260715T160000
DTSTAMP:20260421T045119
CREATED:20260402T161215Z
LAST-MODIFIED:20260402T161215Z
UID:3524-1784106000-1784131200@searcycountryclub.com
SUMMARY:Ladies Bridge
DESCRIPTION:
URL:https://searcycountryclub.com/event/ladies-bridge/2026-07-15/
CATEGORIES:Club Event
END:VEVENT
BEGIN:VEVENT
DTSTART;TZID=America/Chicago:20260721T120000
DTEND;TZID=America/Chicago:20260721T130000
DTSTAMP:20260421T045119
CREATED:20260402T161239Z
LAST-MODIFIED:20260402T161239Z
UID:3586-1784635200-1784638800@searcycountryclub.com
SUMMARY:Rotary Luncheon
DESCRIPTION:
URL:https://searcycountryclub.com/event/rotary-luncheon/2026-07-21/
CATEGORIES:Club Event
END:VEVENT
BEGIN:VEVENT
DTSTART;TZID=America/Chicago:20260722T173000
DTEND;TZID=America/Chicago:20260722T200000
DTSTAMP:20260421T045119
CREATED:20260402T160958Z
LAST-MODIFIED:20260402T170634Z
UID:3471-1784741400-1784750400@searcycountryclub.com
SUMMARY:Mahjong Game Night
DESCRIPTION:
URL:https://searcycountryclub.com/event/mahjong-game-night/2026-07-22/
CATEGORIES:Club Event
END:VEVENT
BEGIN:VEVENT
DTSTART;TZID=America/Chicago:20260728T120000
DTEND;TZID=America/Chicago:20260728T130000
DTSTAMP:20260421T045119
CREATED:20260402T161239Z
LAST-MODIFIED:20260402T161239Z
UID:3587-1785240000-1785243600@searcycountryclub.com
SUMMARY:Rotary Luncheon
DESCRIPTION:
URL:https://searcycountryclub.com/event/rotary-luncheon/2026-07-28/
CATEGORIES:Club Event
END:VEVENT
BEGIN:VEVENT
DTSTART;TZID=America/Chicago:20260729T090000
DTEND;TZID=America/Chicago:20260729T160000
DTSTAMP:20260421T045119
CREATED:20260402T161215Z
LAST-MODIFIED:20260402T161215Z
UID:3525-1785315600-1785340800@searcycountryclub.com
SUMMARY:Ladies Bridge
DESCRIPTION:
URL:https://searcycountryclub.com/event/ladies-bridge/2026-07-29/
CATEGORIES:Club Event
END:VEVENT
END:VCALENDAR