BEGIN:VCALENDAR
VERSION:2.0
PRODID:-//Searcy Country Club - ECPv6.15.20//NONSGML v1.0//EN
CALSCALE:GREGORIAN
METHOD:PUBLISH
X-WR-CALNAME:Searcy Country Club
X-ORIGINAL-URL:https://searcycountryclub.com
X-WR-CALDESC:Events for Searcy Country Club
REFRESH-INTERVAL;VALUE=DURATION:PT1H
X-Robots-Tag:noindex
X-PUBLISHED-TTL:PT1H
BEGIN:VTIMEZONE
TZID:America/Chicago
BEGIN:DAYLIGHT
TZOFFSETFROM:-0600
TZOFFSETTO:-0500
TZNAME:CDT
DTSTART:20220313T080000
END:DAYLIGHT
BEGIN:STANDARD
TZOFFSETFROM:-0500
TZOFFSETTO:-0600
TZNAME:CST
DTSTART:20221106T070000
END:STANDARD
BEGIN:DAYLIGHT
TZOFFSETFROM:-0600
TZOFFSETTO:-0500
TZNAME:CDT
DTSTART:20230312T080000
END:DAYLIGHT
BEGIN:STANDARD
TZOFFSETFROM:-0500
TZOFFSETTO:-0600
TZNAME:CST
DTSTART:20231105T070000
END:STANDARD
BEGIN:DAYLIGHT
TZOFFSETFROM:-0600
TZOFFSETTO:-0500
TZNAME:CDT
DTSTART:20240310T080000
END:DAYLIGHT
BEGIN:STANDARD
TZOFFSETFROM:-0500
TZOFFSETTO:-0600
TZNAME:CST
DTSTART:20241103T070000
END:STANDARD
BEGIN:DAYLIGHT
TZOFFSETFROM:-0600
TZOFFSETTO:-0500
TZNAME:CDT
DTSTART:20250309T080000
END:DAYLIGHT
BEGIN:STANDARD
TZOFFSETFROM:-0500
TZOFFSETTO:-0600
TZNAME:CST
DTSTART:20251102T070000
END:STANDARD
BEGIN:DAYLIGHT
TZOFFSETFROM:-0600
TZOFFSETTO:-0500
TZNAME:CDT
DTSTART:20260308T080000
END:DAYLIGHT
BEGIN:STANDARD
TZOFFSETFROM:-0500
TZOFFSETTO:-0600
TZNAME:CST
DTSTART:20261101T070000
END:STANDARD
BEGIN:DAYLIGHT
TZOFFSETFROM:-0600
TZOFFSETTO:-0500
TZNAME:CDT
DTSTART:20270314T080000
END:DAYLIGHT
BEGIN:STANDARD
TZOFFSETFROM:-0500
TZOFFSETTO:-0600
TZNAME:CST
DTSTART:20271107T070000
END:STANDARD
END:VTIMEZONE
BEGIN:VEVENT
DTSTART;TZID=America/Chicago:20260423T173000
DTEND;TZID=America/Chicago:20260423T203000
DTSTAMP:20260420T054945
CREATED:20260402T164314Z
LAST-MODIFIED:20260402T164314Z
UID:3697-1776965400-1776976200@searcycountryclub.com
SUMMARY:Bingo Night
DESCRIPTION:
URL:https://searcycountryclub.com/event/bingo-night-4/
CATEGORIES:Club Event
END:VEVENT
BEGIN:VEVENT
DTSTART;TZID=America/Chicago:20260423T113000
DTEND;TZID=America/Chicago:20260423T150000
DTSTAMP:20260420T054945
CREATED:20260402T164154Z
LAST-MODIFIED:20260402T164154Z
UID:3692-1776943800-1776956400@searcycountryclub.com
SUMMARY:Carti Luncheon
DESCRIPTION:
URL:https://searcycountryclub.com/event/carti-luncheon/
CATEGORIES:Club Event
END:VEVENT
BEGIN:VEVENT
DTSTART;TZID=America/Chicago:20260422T090000
DTEND;TZID=America/Chicago:20260422T160000
DTSTAMP:20260420T054945
CREATED:20260402T161215Z
LAST-MODIFIED:20260402T161215Z
UID:3518-1776848400-1776873600@searcycountryclub.com
SUMMARY:Ladies Bridge
DESCRIPTION:
URL:https://searcycountryclub.com/event/ladies-bridge/2026-04-22/
CATEGORIES:Club Event
END:VEVENT
BEGIN:VEVENT
DTSTART;TZID=America/Chicago:20260421T120000
DTEND;TZID=America/Chicago:20260421T130000
DTSTAMP:20260420T054945
CREATED:20260402T161239Z
LAST-MODIFIED:20260402T161239Z
UID:3560-1776772800-1776776400@searcycountryclub.com
SUMMARY:Rotary Luncheon
DESCRIPTION:
URL:https://searcycountryclub.com/event/rotary-luncheon/2026-04-21/
CATEGORIES:Club Event
END:VEVENT
BEGIN:VEVENT
DTSTART;VALUE=DATE:20260420
DTEND;VALUE=DATE:20260421
DTSTAMP:20260420T054945
CREATED:20260402T165707Z
LAST-MODIFIED:20260402T170107Z
UID:3728-1776643200-1776729599@searcycountryclub.com
SUMMARY:Club Closed/Course Open @ 10am
DESCRIPTION:
URL:https://searcycountryclub.com/event/club-closed-course-open-10am/2026-04-20/
CATEGORIES:Club Closure
END:VEVENT
BEGIN:VEVENT
DTSTART;TZID=America/Chicago:20260415T173000
DTEND;TZID=America/Chicago:20260415T200000
DTSTAMP:20260420T054945
CREATED:20260402T160958Z
LAST-MODIFIED:20260402T170632Z
UID:3463-1776274200-1776283200@searcycountryclub.com
SUMMARY:Mahjong Game Night
DESCRIPTION:
URL:https://searcycountryclub.com/event/mahjong-game-night/2026-04-15/
CATEGORIES:Club Event
END:VEVENT
BEGIN:VEVENT
DTSTART;VALUE=DATE:20260415
DTEND;VALUE=DATE:20260416
DTSTAMP:20260420T054945
CREATED:20260402T161810Z
LAST-MODIFIED:20260402T164150Z
UID:3580-1776211200-1776297599@searcycountryclub.com
SUMMARY:Tax Day
DESCRIPTION:
URL:https://searcycountryclub.com/event/bingo-night-3/
CATEGORIES:Holiday
END:VEVENT
BEGIN:VEVENT
DTSTART;TZID=America/Chicago:20260414T120000
DTEND;TZID=America/Chicago:20260414T130000
DTSTAMP:20260420T054945
CREATED:20260402T161239Z
LAST-MODIFIED:20260402T161239Z
UID:3559-1776168000-1776171600@searcycountryclub.com
SUMMARY:Rotary Luncheon
DESCRIPTION:
URL:https://searcycountryclub.com/event/rotary-luncheon/2026-04-14/
CATEGORIES:Club Event
END:VEVENT
BEGIN:VEVENT
DTSTART;VALUE=DATE:20260413
DTEND;VALUE=DATE:20260414
DTSTAMP:20260420T054945
CREATED:20260402T165707Z
LAST-MODIFIED:20260402T170106Z
UID:3727-1776038400-1776124799@searcycountryclub.com
SUMMARY:Club Closed/Course Open @ 10am
DESCRIPTION:
URL:https://searcycountryclub.com/event/club-closed-course-open-10am/2026-04-13/
CATEGORIES:Club Closure
END:VEVENT
BEGIN:VEVENT
DTSTART;VALUE=DATE:20260411
DTEND;VALUE=DATE:20260413
DTSTAMP:20260420T054945
CREATED:20260402T152132Z
LAST-MODIFIED:20260402T154152Z
UID:3388-1775865600-1776038399@searcycountryclub.com
SUMMARY:One Man Scramble
DESCRIPTION:Saturday Tee times are 8:30am and 1:00pm\nSunday Tee times to be announced Saturday.\nLunch Provided Saturday and Sunday.
URL:https://searcycountryclub.com/event/one-man-scramble-2/
CATEGORIES:Golf Tournaments
END:VEVENT
BEGIN:VEVENT
DTSTART;TZID=America/Chicago:20260409T180000
DTEND;TZID=America/Chicago:20260409T200000
DTSTAMP:20260420T054945
CREATED:20260402T162229Z
LAST-MODIFIED:20260402T162229Z
UID:3678-1775757600-1775764800@searcycountryclub.com
SUMMARY:Trivia Night
DESCRIPTION:Food and Drink Specials
URL:https://searcycountryclub.com/event/trivia-night/
CATEGORIES:Club Event
END:VEVENT
BEGIN:VEVENT
DTSTART;TZID=America/Chicago:20260408T090000
DTEND;TZID=America/Chicago:20260408T160000
DTSTAMP:20260420T054945
CREATED:20260402T161215Z
LAST-MODIFIED:20260402T161215Z
UID:3464-1775638800-1775664000@searcycountryclub.com
SUMMARY:Ladies Bridge
DESCRIPTION:
URL:https://searcycountryclub.com/event/ladies-bridge/2026-04-08/
CATEGORIES:Club Event
END:VEVENT
BEGIN:VEVENT
DTSTART;TZID=America/Chicago:20260407T120000
DTEND;TZID=America/Chicago:20260407T130000
DTSTAMP:20260420T054945
CREATED:20260402T161239Z
LAST-MODIFIED:20260402T161342Z
UID:3517-1775563200-1775566800@searcycountryclub.com
SUMMARY:Rotary Luncheon
DESCRIPTION:
URL:https://searcycountryclub.com/event/rotary-luncheon/2026-04-07/
CATEGORIES:Club Event
END:VEVENT
BEGIN:VEVENT
DTSTART;VALUE=DATE:20260406
DTEND;VALUE=DATE:20260407
DTSTAMP:20260420T054945
CREATED:20260402T165707Z
LAST-MODIFIED:20260402T170106Z
UID:3722-1775433600-1775519999@searcycountryclub.com
SUMMARY:Club Closed/Course Open @ 10am
DESCRIPTION:
URL:https://searcycountryclub.com/event/club-closed-course-open-10am/2026-04-06/
CATEGORIES:Club Closure
END:VEVENT
BEGIN:VEVENT
DTSTART;TZID=America/Chicago:20260405T100000
DTEND;TZID=America/Chicago:20260405T140000
DTSTAMP:20260420T054945
CREATED:20260402T162001Z
LAST-MODIFIED:20260402T162001Z
UID:3675-1775383200-1775397600@searcycountryclub.com
SUMMARY:Easter Celebration
DESCRIPTION:Easter Brunch 10:30am-2pm \nEgg Hunt @ noon \nPetting Zoo 10am-2pm
URL:https://searcycountryclub.com/event/easter-celebration/
CATEGORIES:Club Event
END:VEVENT
BEGIN:VEVENT
DTSTART;VALUE=DATE:20260405
DTEND;VALUE=DATE:20260406
DTSTAMP:20260420T054945
CREATED:20260402T162830Z
LAST-MODIFIED:20260402T162830Z
UID:3682-1775347200-1775433599@searcycountryclub.com
SUMMARY:Easter
DESCRIPTION:
URL:https://searcycountryclub.com/event/easter/
CATEGORIES:Holiday
END:VEVENT
BEGIN:VEVENT
DTSTART;VALUE=DATE:20260402
DTEND;VALUE=DATE:20260403
DTSTAMP:20260420T054945
CREATED:20260402T154139Z
LAST-MODIFIED:20260402T154139Z
UID:3394-1775088000-1775174399@searcycountryclub.com
SUMMARY:Imagine and Believe
DESCRIPTION:
URL:https://searcycountryclub.com/event/imagine-and-believe/
CATEGORIES:Club Event
END:VEVENT
BEGIN:VEVENT
DTSTART;VALUE=DATE:20241012
DTEND;VALUE=DATE:20241014
DTSTAMP:20260420T054945
CREATED:20240627T183452Z
LAST-MODIFIED:20240627T183452Z
UID:2930-1728691200-1728863999@searcycountryclub.com
SUMMARY:Member-Guest
DESCRIPTION:
URL:https://searcycountryclub.com/event/member-guest/
CATEGORIES:Golf Tournaments
END:VEVENT
BEGIN:VEVENT
DTSTART;VALUE=DATE:20240914
DTEND;VALUE=DATE:20240916
DTSTAMP:20260420T054945
CREATED:20240627T183353Z
LAST-MODIFIED:20240627T183353Z
UID:2928-1726272000-1726444799@searcycountryclub.com
SUMMARY:Searcy Country Club Mixed Invitational
DESCRIPTION:
URL:https://searcycountryclub.com/event/searcy-country-club-mixed-invitational-2/
CATEGORIES:Golf Tournaments
END:VEVENT
BEGIN:VEVENT
DTSTART;VALUE=DATE:20240902
DTEND;VALUE=DATE:20240903
DTSTAMP:20260420T054945
CREATED:20240627T183123Z
LAST-MODIFIED:20240627T183123Z
UID:2924-1725235200-1725321599@searcycountryclub.com
SUMMARY:Labor Day
DESCRIPTION:
URL:https://searcycountryclub.com/event/labor-day/
CATEGORIES:Holiday
END:VEVENT
BEGIN:VEVENT
DTSTART;VALUE=DATE:20240824
DTEND;VALUE=DATE:20240826
DTSTAMP:20260420T054945
CREATED:20240627T183014Z
LAST-MODIFIED:20240627T183014Z
UID:2922-1724457600-1724630399@searcycountryclub.com
SUMMARY:All Club Championships
DESCRIPTION:
URL:https://searcycountryclub.com/event/all-club-championships-2/
CATEGORIES:Golf Tournaments
END:VEVENT
BEGIN:VEVENT
DTSTART;TZID=America/Chicago:20240816T080000
DTEND;TZID=America/Chicago:20240816T170000
DTSTAMP:20260420T054945
CREATED:20240627T182657Z
LAST-MODIFIED:20240627T182657Z
UID:2920-1723795200-1723827600@searcycountryclub.com
SUMMARY:Child Safety Center Golf Tournament
DESCRIPTION:
URL:https://searcycountryclub.com/event/child-safety-center-golf-tournament/
CATEGORIES:Golf Tournaments
END:VEVENT
BEGIN:VEVENT
DTSTART;VALUE=DATE:20240808
DTEND;VALUE=DATE:20240809
DTSTAMP:20260420T054945
CREATED:20240627T182558Z
LAST-MODIFIED:20240627T182558Z
UID:2918-1723075200-1723161599@searcycountryclub.com
SUMMARY:Men's Golf Association
DESCRIPTION:
URL:https://searcycountryclub.com/event/mens-golf-association-2/
CATEGORIES:Golf Tournaments
END:VEVENT
BEGIN:VEVENT
DTSTART;VALUE=DATE:20240805
DTEND;VALUE=DATE:20240806
DTSTAMP:20260420T054945
CREATED:20240627T183313Z
LAST-MODIFIED:20240627T183313Z
UID:2926-1722816000-1722902399@searcycountryclub.com
SUMMARY:Men's Golf Association
DESCRIPTION:
URL:https://searcycountryclub.com/event/mens-golf-association-3/
CATEGORIES:Golf Tournaments
END:VEVENT
BEGIN:VEVENT
DTSTART;VALUE=DATE:20240729
DTEND;VALUE=DATE:20240731
DTSTAMP:20260420T054945
CREATED:20240627T172827Z
LAST-MODIFIED:20240627T172827Z
UID:2916-1722211200-1722383999@searcycountryclub.com
SUMMARY:Golf Course Aerification
DESCRIPTION:
URL:https://searcycountryclub.com/event/golf-course-aerification/
CATEGORIES:Course Closure
END:VEVENT
BEGIN:VEVENT
DTSTART;VALUE=DATE:20240726
DTEND;VALUE=DATE:20240729
DTSTAMP:20260420T054945
CREATED:20240627T172614Z
LAST-MODIFIED:20240627T172614Z
UID:2914-1721952000-1722211199@searcycountryclub.com
SUMMARY:Searcy Country Club 4-Ball
DESCRIPTION:
URL:https://searcycountryclub.com/event/searcy-country-club-4-ball-2/
CATEGORIES:Golf Tournaments
END:VEVENT
BEGIN:VEVENT
DTSTART;VALUE=DATE:20240713
DTEND;VALUE=DATE:20240715
DTSTAMP:20260420T054945
CREATED:20240627T172345Z
LAST-MODIFIED:20240627T172345Z
UID:2912-1720828800-1721001599@searcycountryclub.com
SUMMARY:Calderwood Cup
DESCRIPTION:
URL:https://searcycountryclub.com/event/calderwood-cup-3/
CATEGORIES:Golf Tournaments
END:VEVENT
BEGIN:VEVENT
DTSTART;VALUE=DATE:20240711
DTEND;VALUE=DATE:20240712
DTSTAMP:20260420T054945
CREATED:20240626T143536Z
LAST-MODIFIED:20240626T143536Z
UID:2907-1720656000-1720742399@searcycountryclub.com
SUMMARY:Men's Golf Association
DESCRIPTION:
URL:https://searcycountryclub.com/event/mens-golf-association/
CATEGORIES:Golf Tournaments
END:VEVENT
BEGIN:VEVENT
DTSTART;VALUE=DATE:20240704
DTEND;VALUE=DATE:20240705
DTSTAMP:20260420T054945
CREATED:20240626T143408Z
LAST-MODIFIED:20240626T143408Z
UID:2905-1720051200-1720137599@searcycountryclub.com
SUMMARY:4th of July Couples Golf
DESCRIPTION:
URL:https://searcycountryclub.com/event/4th-of-july-couples-golf/
CATEGORIES:Golf Tournaments
END:VEVENT
BEGIN:VEVENT
DTSTART;TZID=America/Chicago:20231111T170000
DTEND;TZID=America/Chicago:20231111T200000
DTSTAMP:20260420T054945
CREATED:20231103T134502Z
LAST-MODIFIED:20231103T134502Z
UID:2693-1699722000-1699732800@searcycountryclub.com
SUMMARY:Trivia/Flight Night
DESCRIPTION:SCC-Trivia Flight Night – 8.5×11
URL:https://searcycountryclub.com/event/trivia-flight-night/
END:VEVENT
END:VCALENDAR